BEGIN:VCALENDAR
VERSION:2.0
PRODID:-//jEvents 2.0 for Joomla//EN
CALSCALE:GREGORIAN
METHOD:PUBLISH
BEGIN:VEVENT
UID:f1badcb8ca6ce5b3fc30ae3e25a6b361
CATEGORIES:extern
CREATED:20250315T143441
SUMMARY:Alzeyer Modellflugtag
LOCATION:Alzey
DESCRIPTION:FMC Alzey Offenheim e.V.\nAlzeyer Modellflugtag
X-ALT-DESC;FMTTYPE=text/html:FMC Alzey Offenheim e.V.<br />Alzeyer Modellflugtag
CONTACT:FMC Alzey Offenheim e.V.
DTSTAMP:20260421T124449
DTSTART;VALUE=DATE:20250816
DTEND;VALUE=DATE:20250818
SEQUENCE:0
TRANSP:OPAQUE
END:VEVENT
END:VCALENDAR