BEGIN:VCALENDAR
VERSION:2.0
PRODID:-//jEvents 2.0 for Joomla//EN
CALSCALE:GREGORIAN
METHOD:PUBLISH
BEGIN:VEVENT
UID:2aefa9077586b7d6a6407214720e6e68
CATEGORIES:MFG
CREATED:20251109T143558
SUMMARY:54. Flugtage der MFG Goldener Grund e.V.
LOCATION:auf dem Römberg in Kirberg
DESCRIPTION:<h3><span style="color: #ffffff; font-size: 12pt;"><span style="color: #000
 000;"><br />&gt;&gt; Wenn Du ein <strong>Gastpilot</strong> bist und gerne 
 an unserer Veranstaltung Teilnehmen möchtest, dann findest du <a href="http
 s://flugtag.mfg-kirberg.de" target="_blank" rel="noopener">HIER</a> weitere
  Informationen und das passende Anmeldeformula</span>r.</span></h3><strong>
 <br /><br />Ablauf:</strong><br /><ul><li><em>Samstag, 08.08.2026</em><br /
 >&nbsp; &nbsp; ab 10:00 Uhr Flugshow<br />&nbsp; &nbsp; ab 19:00 Uhr Dämmer
 ungsflug<br />&nbsp; &nbsp; ab 22:00 Uhr Nachtflug mit Feuerwerk<br /><br /
 ></li><li><em>Sonntag, 09.08.2026</em><br />&nbsp; &nbsp;ab 10:00 Uhr Flugs
 how</li></ul><br /><br /><strong>Die Veranstaltung in Stichpunkten:</strong
 ><br /><ul><li>Modellflugshow</li><li>leckeres Essen im Festzelt (wie Würst
 chen, Pommes und "Römberger" - auch vegetarische Speisen werden geboten)</l
 i><li>Hüpfburg für die Kinder</li><li>eine sensationelle Nachtflugshow</li>
 <li>Feuerwerk am Samstagabend <em>(Wetterabhängig)</em></li><li>Kunstflug m
 it "echten" Flugzeugen</li><li>Hubschrauberrundflüge <em>(Wetterabhängig)</
 em></li></ul><br /><br /><div class="phocadownloadfilelist"><div class="pd-
 filename phocadownloadfilelistitem phoca-dl-file-box-mod"><div class="pd-do
 cument32" style="background: url('https://mfg-kirberg.de/media/com_phocadow
 nload/images/mime/32/icon-img.png') 0 center no-repeat;"><a href="/componen
 t/phocadownload/category/7-flugtag.html?download=16:plakat-54-flugtage-hohe
 -aufloesung-jpg&amp;Itemid=101" target="_blank" >Plakat - 54. Flugtage (hoh
 e Auflösung) [JPG / 4MB]</a></div></div><div class="pd-filename phocadownlo
 adfilelistitem phoca-dl-file-box-mod"><div class="pd-document32" style="bac
 kground: url('https://mfg-kirberg.de/media/com_phocadownload/images/mime/32
 /icon-img.png') 0 center no-repeat;"><a href="/component/phocadownload/cate
 gory/7-flugtag.html?download=17:plakat-54-flugtage-niedrige-aufloesung-jpg&
 amp;Itemid=101" target="_blank" >Plakat - 54. Flugtage (niedrige Auflösung)
  [JPG / 1MB]</a></div></div><div class="pd-filename phocadownloadfilelistit
 em phoca-dl-file-box-mod"><div class="pd-document32" style="background: url
 ('https://mfg-kirberg.de/media/com_phocadownload/images/mime/32/icon-pdf.pn
 g') 0 center no-repeat;"><a href="/component/phocadownload/category/7-flugt
 ag.html?download=19:plakat-54-flugtage-druckversion-a3-pdf-3mb&amp;Itemid=1
 01" target="_blank" >Plakat - 54. Flugtage (Druckversion - A3) [PDF / 3MB]<
 /a></div></div><div class="pd-filename phocadownloadfilelistitem phoca-dl-f
 ile-box-mod"><div class="pd-document32" style="background: url('https://mfg
 -kirberg.de/media/com_phocadownload/images/mime/32/icon-pdf.png') 0 center 
 no-repeat;"><a href="/component/phocadownload/category/7-flugtag.html?downl
 oad=18:plakat-54-flugtage-druckversion-pdf-2mb&amp;Itemid=101" target="_bla
 nk" >Plakat - 54. Flugtage (Druckversion - A4) [PDF / 2MB]</a></div></div><
 div class="pd-filename phocadownloadfilelistitem phoca-dl-file-box-mod"><di
 v class="pd-document32" style="background: url('https://mfg-kirberg.de/medi
 a/com_phocadownload/images/mime/32/icon-pdf.png') 0 center no-repeat;"><a h
 ref="/component/phocadownload/category/7-flugtag.html?download=20:plakat-54
 -flugtage-druckversion-a4-komprimiert-pdf-0-8mb&amp;Itemid=101" target="_bl
 ank" >Plakat - 54. Flugtage (Druckversion - A4 - komprimiert) [PDF / 0,8MB]
 </a></div></div></div>
X-ALT-DESC;FMTTYPE=text/html:<h3><span style="color: #ffffff; font-size: 12pt;"><span style="color: #000
 000;"><br />&gt;&gt; Wenn Du ein <strong>Gastpilot</strong> bist und gerne 
 an unserer Veranstaltung Teilnehmen möchtest, dann findest du <a href="http
 s://flugtag.mfg-kirberg.de" target="_blank" rel="noopener">HIER</a> weitere
  Informationen und das passende Anmeldeformula</span>r.</span></h3><strong>
 <br /><br />Ablauf:</strong><br /><ul><li><em>Samstag, 08.08.2026</em><br /
 >&nbsp; &nbsp; ab 10:00 Uhr Flugshow<br />&nbsp; &nbsp; ab 19:00 Uhr Dämmer
 ungsflug<br />&nbsp; &nbsp; ab 22:00 Uhr Nachtflug mit Feuerwerk<br /><br /
 ></li><li><em>Sonntag, 09.08.2026</em><br />&nbsp; &nbsp;ab 10:00 Uhr Flugs
 how</li></ul><br /><br /><strong>Die Veranstaltung in Stichpunkten:</strong
 ><br /><ul><li>Modellflugshow</li><li>leckeres Essen im Festzelt (wie Würst
 chen, Pommes und "Römberger" - auch vegetarische Speisen werden geboten)</l
 i><li>Hüpfburg für die Kinder</li><li>eine sensationelle Nachtflugshow</li>
 <li>Feuerwerk am Samstagabend <em>(Wetterabhängig)</em></li><li>Kunstflug m
 it "echten" Flugzeugen</li><li>Hubschrauberrundflüge <em>(Wetterabhängig)</
 em></li></ul><br /><br /><div class="phocadownloadfilelist"><div class="pd-
 filename phocadownloadfilelistitem phoca-dl-file-box-mod"><div class="pd-do
 cument32" style="background: url('https://mfg-kirberg.de/media/com_phocadow
 nload/images/mime/32/icon-img.png') 0 center no-repeat;"><a href="https://m
 fg-kirberg.de/component/phocadownload/category/7-flugtag.html?download=16:p
 lakat-54-flugtage-hohe-aufloesung-jpg&amp;Itemid=101" target="_blank" >Plak
 at - 54. Flugtage (hohe Auflösung) [JPG / 4MB]</a></div></div><div class="p
 d-filename phocadownloadfilelistitem phoca-dl-file-box-mod"><div class="pd-
 document32" style="background: url('https://mfg-kirberg.de/media/com_phocad
 ownload/images/mime/32/icon-img.png') 0 center no-repeat;"><a href="https:/
 /mfg-kirberg.de/component/phocadownload/category/7-flugtag.html?download=17
 :plakat-54-flugtage-niedrige-aufloesung-jpg&amp;Itemid=101" target="_blank"
  >Plakat - 54. Flugtage (niedrige Auflösung) [JPG / 1MB]</a></div></div><di
 v class="pd-filename phocadownloadfilelistitem phoca-dl-file-box-mod"><div 
 class="pd-document32" style="background: url('https://mfg-kirberg.de/media/
 com_phocadownload/images/mime/32/icon-pdf.png') 0 center no-repeat;"><a hre
 f="https://mfg-kirberg.de/component/phocadownload/category/7-flugtag.html?d
 ownload=19:plakat-54-flugtage-druckversion-a3-pdf-3mb&amp;Itemid=101" targe
 t="_blank" >Plakat - 54. Flugtage (Druckversion - A3) [PDF / 3MB]</a></div>
 </div><div class="pd-filename phocadownloadfilelistitem phoca-dl-file-box-m
 od"><div class="pd-document32" style="background: url('https://mfg-kirberg.
 de/media/com_phocadownload/images/mime/32/icon-pdf.png') 0 center no-repeat
 ;"><a href="https://mfg-kirberg.de/component/phocadownload/category/7-flugt
 ag.html?download=18:plakat-54-flugtage-druckversion-pdf-2mb&amp;Itemid=101"
  target="_blank" >Plakat - 54. Flugtage (Druckversion - A4) [PDF / 2MB]</a>
 </div></div><div class="pd-filename phocadownloadfilelistitem phoca-dl-file
 -box-mod"><div class="pd-document32" style="background: url('https://mfg-ki
 rberg.de/media/com_phocadownload/images/mime/32/icon-pdf.png') 0 center no-
 repeat;"><a href="https://mfg-kirberg.de/component/phocadownload/category/7
 -flugtag.html?download=20:plakat-54-flugtage-druckversion-a4-komprimiert-pd
 f-0-8mb&amp;Itemid=101" target="_blank" >Plakat - 54. Flugtage (Druckversio
 n - A4 - komprimiert) [PDF / 0,8MB]</a></div></div></div>
DTSTAMP:20260419T222245
DTSTART;VALUE=DATE:20260808
DTEND;VALUE=DATE:20260810
SEQUENCE:0
TRANSP:OPAQUE
END:VEVENT
END:VCALENDAR